BEGIN:VCALENDAR
VERSION:2.0
PRODID:-//Washington Baltimore Center for Psychoanalysis, Inc. - ECPv6.15.20//NONSGML v1.0//EN
CALSCALE:GREGORIAN
METHOD:PUBLISH
X-WR-CALNAME:Washington Baltimore Center for Psychoanalysis, Inc.
X-ORIGINAL-URL:https://www.wbcp.org
X-WR-CALDESC:Events for Washington Baltimore Center for Psychoanalysis, Inc.
REFRESH-INTERVAL;VALUE=DURATION:PT1H
X-Robots-Tag:noindex
X-PUBLISHED-TTL:PT1H
BEGIN:VTIMEZONE
TZID:America/New_York
BEGIN:DAYLIGHT
TZOFFSETFROM:-0500
TZOFFSETTO:-0400
TZNAME:EDT
DTSTART:20240310T070000
END:DAYLIGHT
BEGIN:STANDARD
TZOFFSETFROM:-0400
TZOFFSETTO:-0500
TZNAME:EST
DTSTART:20241103T060000
END:STANDARD
BEGIN:DAYLIGHT
TZOFFSETFROM:-0500
TZOFFSETTO:-0400
TZNAME:EDT
DTSTART:20250309T070000
END:DAYLIGHT
BEGIN:STANDARD
TZOFFSETFROM:-0400
TZOFFSETTO:-0500
TZNAME:EST
DTSTART:20251102T060000
END:STANDARD
BEGIN:DAYLIGHT
TZOFFSETFROM:-0500
TZOFFSETTO:-0400
TZNAME:EDT
DTSTART:20260308T070000
END:DAYLIGHT
BEGIN:STANDARD
TZOFFSETFROM:-0400
TZOFFSETTO:-0500
TZNAME:EST
DTSTART:20261101T060000
END:STANDARD
END:VTIMEZONE
BEGIN:VEVENT
DTSTART;TZID=America/New_York:20251115T120000
DTEND;TZID=America/New_York:20251115T140000
DTSTAMP:20260421T004911
CREATED:20250829T150503Z
LAST-MODIFIED:20250829T150538Z
UID:12546-1763208000-1763215200@www.wbcp.org
SUMMARY:Psychoanalysis Creativity and the Arts: Session 2: “Creativity and Resiliency”
DESCRIPTION:Session 2 of 3 \n“Creativity and Resiliency”\n \nPresented by\nRosa Aurora Chavez\, MD\, PhD\, FABP \n\nSaturday\, November 15\, 2025\,\n12:00 – 2:00pm (2 CME/CE)\nPresentation and Discussion via Zoom \n\n\nPresentation:\nIn this seminar (in English) we will discuss the evolutionary relevance of creativity for resiliency form psychodynamic and neuropsychoanalytic perspectives.\n \n\n\nFlyer: HERE\nRegistration Link: HERE
URL:https://www.wbcp.org/event/psychoanalysis-creativity-and-the-arts-session-2-creativity-and-resiliency/
LOCATION:Via Zoom
CATEGORIES:Art & Creativity,Public Program,Scientific Conferences
END:VEVENT
END:VCALENDAR