BEGIN:VCALENDAR
VERSION:2.0
PRODID:-//Washington Baltimore Center for Psychoanalysis, Inc. - ECPv6.15.20//NONSGML v1.0//EN
CALSCALE:GREGORIAN
METHOD:PUBLISH
X-WR-CALNAME:Washington Baltimore Center for Psychoanalysis, Inc.
X-ORIGINAL-URL:https://www.wbcp.org
X-WR-CALDESC:Events for Washington Baltimore Center for Psychoanalysis, Inc.
REFRESH-INTERVAL;VALUE=DURATION:PT1H
X-Robots-Tag:noindex
X-PUBLISHED-TTL:PT1H
BEGIN:VTIMEZONE
TZID:America/New_York
BEGIN:DAYLIGHT
TZOFFSETFROM:-0500
TZOFFSETTO:-0400
TZNAME:EDT
DTSTART:20240310T070000
END:DAYLIGHT
BEGIN:STANDARD
TZOFFSETFROM:-0400
TZOFFSETTO:-0500
TZNAME:EST
DTSTART:20241103T060000
END:STANDARD
BEGIN:DAYLIGHT
TZOFFSETFROM:-0500
TZOFFSETTO:-0400
TZNAME:EDT
DTSTART:20250309T070000
END:DAYLIGHT
BEGIN:STANDARD
TZOFFSETFROM:-0400
TZOFFSETTO:-0500
TZNAME:EST
DTSTART:20251102T060000
END:STANDARD
BEGIN:DAYLIGHT
TZOFFSETFROM:-0500
TZOFFSETTO:-0400
TZNAME:EDT
DTSTART:20260308T070000
END:DAYLIGHT
BEGIN:STANDARD
TZOFFSETFROM:-0400
TZOFFSETTO:-0500
TZNAME:EST
DTSTART:20261101T060000
END:STANDARD
END:VTIMEZONE
BEGIN:VEVENT
DTSTART;TZID=America/New_York:20251004T140000
DTEND;TZID=America/New_York:20251004T160000
DTSTAMP:20260421T021333
CREATED:20250829T143719Z
LAST-MODIFIED:20250925T045657Z
UID:12541-1759586400-1759593600@www.wbcp.org
SUMMARY:Psychoanalysis Creativity and the Arts: Session 1: "Lo creativo y lo vital"
DESCRIPTION:Session 1 of 3 \nLo creativo y lo vital \nPresented by \nAlfredo Panceira\, MD\, Jani Santamaria\, PhD\, Ariel Liberman\, PhD\, and Rosa Aurora Chavez\, MD\, PhD\, FABP \n\nSaturday\, October 4\, 2025\n2:00 pm – 4:00 pm (2 CME/CE)\nPresentation and Discussion via Zoom \n\n\n*This first session will be conducted in Spanish with Closed Caption translation available through Zoom. The other two sessions will be in English\n \n\n\nPresentation: \nIn this panel presentation we will discuss how creativity is linked from early ages to vitality\, and how both are creativity and vitality are activated through psychoanalysis. This seminar will be in Spanish. English translations and related materials will be shared. This will be our first event in Spanish acknowledging the vast community of Spanish speaking psychotherapists and psychoanalysts throughout the USA and providing the opportunity to also invite important contributors to the field of psychoanalysis from Latinoamerica and Spain. \nFlyer: HERE\nRegistration Link: HERE
URL:https://www.wbcp.org/event/psychoanalysis-creativity-and-the-arts-seminar/
LOCATION:Via Zoom
CATEGORIES:Art & Creativity,Continuing Education (CE/CME),Public Program,Scientific Conferences
END:VEVENT
END:VCALENDAR